BEGIN:VCALENDAR
VERSION:2.0
CALSCALE:GREGORIAN
PRODID:adamgibbons/ics
METHOD:PUBLISH
X-PUBLISHED-TTL:PT1H
BEGIN:VEVENT
UID:1150720364
SUMMARY:Обсуждение (пред-предзащита) кандидатской диссертации Швецовой Елен
	ы Антоновны на тему: «Миллиардеры в кризисные периоды 2010–2020-х гг.: дин
	амика капитала и поведенческие стратегии»
DTSTAMP:20260320T074400Z
DTSTART:20260429T140000Z
DTEND:20260429T160000Z
DESCRIPTION:29 апреля 2026 г. в 17.00 на расширенном заседании Центра иссле
	дований неравенства и уровня жизни Института социальной политики состоится
	 предварительное обсуждение (пред-предзащита) кандидатской диссертации Шве
	цовой Елены Антоновны на тему «Миллиардеры в кризисные периоды 2010–2020-х
	 гг.: динамика капитала и поведенческие стратегии» по научной специальност
	и 5.4.4 Социальная структура\, социальные институты и процессы.
LOCATION:Славянская площадь\, 4с2\, Россия\, Москва
STATUS:CONFIRMED
END:VEVENT
END:VCALENDAR
